BEGIN:VCALENDAR
VERSION:2.0
PRODID:-//Rajatiedon Yhteistyö ry - ECPv6.15.13.1//NONSGML v1.0//EN
CALSCALE:GREGORIAN
METHOD:PUBLISH
X-WR-CALNAME:Rajatiedon Yhteistyö ry
X-ORIGINAL-URL:https://www.rajatieto.fi
X-WR-CALDESC:Tapahtumat Rajatiedon Yhteistyö ry
REFRESH-INTERVAL;VALUE=DURATION:PT1H
X-Robots-Tag:noindex
X-PUBLISHED-TTL:PT1H
BEGIN:VTIMEZONE
TZID:Europe/Helsinki
BEGIN:DAYLIGHT
TZOFFSETFROM:+0200
TZOFFSETTO:+0300
TZNAME:EEST
DTSTART:20170326T010000
END:DAYLIGHT
BEGIN:STANDARD
TZOFFSETFROM:+0300
TZOFFSETTO:+0200
TZNAME:EET
DTSTART:20171029T010000
END:STANDARD
BEGIN:DAYLIGHT
TZOFFSETFROM:+0200
TZOFFSETTO:+0300
TZNAME:EEST
DTSTART:20180325T010000
END:DAYLIGHT
BEGIN:STANDARD
TZOFFSETFROM:+0300
TZOFFSETTO:+0200
TZNAME:EET
DTSTART:20181028T010000
END:STANDARD
BEGIN:DAYLIGHT
TZOFFSETFROM:+0200
TZOFFSETTO:+0300
TZNAME:EEST
DTSTART:20190331T010000
END:DAYLIGHT
BEGIN:STANDARD
TZOFFSETFROM:+0300
TZOFFSETTO:+0200
TZNAME:EET
DTSTART:20191027T010000
END:STANDARD
BEGIN:DAYLIGHT
TZOFFSETFROM:+0200
TZOFFSETTO:+0300
TZNAME:EEST
DTSTART:20200329T010000
END:DAYLIGHT
BEGIN:STANDARD
TZOFFSETFROM:+0300
TZOFFSETTO:+0200
TZNAME:EET
DTSTART:20201025T010000
END:STANDARD
BEGIN:DAYLIGHT
TZOFFSETFROM:+0200
TZOFFSETTO:+0300
TZNAME:EEST
DTSTART:20210328T010000
END:DAYLIGHT
BEGIN:STANDARD
TZOFFSETFROM:+0300
TZOFFSETTO:+0200
TZNAME:EET
DTSTART:20211031T010000
END:STANDARD
BEGIN:DAYLIGHT
TZOFFSETFROM:+0200
TZOFFSETTO:+0300
TZNAME:EEST
DTSTART:20220327T010000
END:DAYLIGHT
BEGIN:STANDARD
TZOFFSETFROM:+0300
TZOFFSETTO:+0200
TZNAME:EET
DTSTART:20221030T010000
END:STANDARD
BEGIN:DAYLIGHT
TZOFFSETFROM:+0200
TZOFFSETTO:+0300
TZNAME:EEST
DTSTART:20230326T010000
END:DAYLIGHT
BEGIN:STANDARD
TZOFFSETFROM:+0300
TZOFFSETTO:+0200
TZNAME:EET
DTSTART:20231029T010000
END:STANDARD
END:VTIMEZONE
BEGIN:VEVENT
DTSTART;TZID=Europe/Helsinki:20220126T190000
DTEND;TZID=Europe/Helsinki:20220126T203000
DTSTAMP:20260424T163123
CREATED:20220126T153743Z
LAST-MODIFIED:20220126T154149Z
UID:48424-1643223600-1643229000@www.rajatieto.fi
SUMMARY:PLANEETTAENERGISOINTI
DESCRIPTION:Teemme visuaalisesti ohjatun kolmivaiheisen värivaloenergiaharjoituksen kohdennettuna maaplaneetalle. Ennakkoilmoittautuminen tekstiviestillä Kaleville 0400 468207. Tule ajoissa paikalle\, aloitamme energisoinnin tasan klo 19:00. Enenrgisointi on ohjattu alusta loppuun ja nautimme kupin teetä energisoinnin jälkeen. \nOsallistumismaksu: 6 € käteisellä\nSinulla on mahdollisuus varata etukäteen vartin yksityisaika Kalevilta hintaan 20 € klo 18:15 ja 18:30.
URL:https://www.rajatieto.fi/tapahtumat/planeettaenergisointi/
LOCATION:Rajatiedon erikoiskirjasto\, Luutnantinpolku 7\, Helsinki\, Uusimaa\, 00410\, Suomi
ORGANIZER;CN="T%C3%A4htitieto ry":MAILTO:starinfo@tahtitieto.fi
END:VEVENT
BEGIN:VEVENT
DTSTART;TZID=Europe/Helsinki:20220116T110000
DTEND;TZID=Europe/Helsinki:20220116T160000
DTSTAMP:20260424T163123
CREATED:20220116T063754Z
LAST-MODIFIED:20220116T063754Z
UID:47643-1642330800-1642348800@www.rajatieto.fi
SUMMARY:Nostalginen yhteenveto Kalevin ”matkasta” 35 vuoden ajalta
DESCRIPTION:Puolet maallisesta matkasta Kohtalon Varajoukoissa\, mitä on toteutunut ja mitä ei? Mistä sai puhua ja mistä ei? Pyyhimme pölyt vanhoista luentokansioista ja kaivoimme piirtoheittimen esiin. Nyt näytämme mitä ennustettiin tapahtumaan  jo kauan sitten. Tulet huomaamaan miksi painotamme tietoisen suojauksen avaamista ja oman voimakeskuksen vahvistamista\, yksilötasoilta sieluminuuden korkeampaan ohjaukseen. Kuinka ja miten toimia monien yhtäaikaisten arjen haasteiden keskellä? Kaikkea tietoa ei voi painaa kirjoihin\, eikä julkaista netissä. Mielenkiintoisimmat keskustelut käydään aina paikan päällä.\n\nEnnakkoilmoittautuminen tekstiviestillä 0400 468207 tai sähköpostilla starinfo@tahtitieto.fi\n\nTilaan mahtuu rajattu määrä osallistujia. Nopeat syövät hitaat!\n\nOsallistumismaksu on 50 € käteisellä\, sisältäen kasvislounaan sekä\, iltapäiväkahvin / teen lisukkeineen\, sekä lyhyen henkilökohtainen selvänäkökonsultaation Kalevilta. Muista ilmoittaa ruoka-allergiat etukäteen.\nTervetuloa! \n\nPaikalla saatavana vuosien aikana toteutunutta kirjallisuutta\, Universaalista Opetusta Kosmoksesta\, sekä Valo Elämän Yhdistäjänä\, Kohti Kosmista Kansalaisuutta\, Ajan Virran Ajatuksia…
URL:https://www.rajatieto.fi/tapahtumat/nostalginen-yhteenveto-kalevin-matkasta-35-vuoden-ajalta/
LOCATION:Rajatiedon erikoiskirjasto\, Luutnantinpolku 7\, Helsinki\, Uusimaa\, 00410\, Suomi
ORGANIZER;CN="T%C3%A4htitieto ry":MAILTO:starinfo@tahtitieto.fi
END:VEVENT
BEGIN:VEVENT
DTSTART;TZID=Europe/Helsinki:20180823T180000
DTEND;TZID=Europe/Helsinki:20180823T220000
DTSTAMP:20260424T163123
CREATED:20180819T220625Z
LAST-MODIFIED:20180819T220625Z
UID:4584-1535047200-1535061600@www.rajatieto.fi
SUMMARY:Taiteiden yön tapahtuma
DESCRIPTION:Helsingin taiteiden yön tapahtuma klo 18-22\nOtava-salissa\nKlo 18:00 Miia Kontro – kertoo kuolemanrajakokemuksia kuvailevasta kirjastaan Portilla (yhteistyössä Rajatiedon erikoiskirjaston kirjallisuuspiirin kanssa) \nKlo 19:00 Kimmo Puunenä\,  mediaalinen kanttori:  Henkistä tarinointia ja pianonsoittoa \nKlo 20:00 Katri Levonen: Sound Therapy and True Being – Äänihoitoa ja todellista olemista \nKlo 21:00  Annika Cleo – laulaa ja soittaa pianoa – sjunger och spelar piano \nMatti Päiwiön Vedic Art -taidenäyttelyn avaus Elämänkukan huoneessa ja Hoitohuoneessa klo 17:30 alkaen \nLootuskukan huoneessa \nValottaret Anita ja Seija: Äänimaljarentoutus ja ohjattu meditaatio Taiteiden yön iltana torstaina 23.8.2018 klo 17:30\, 18:00\, 18:30    Vapaaehtoinen oviraha\, Seija Helin / Kristallitupa   p. 040 526 9956 / email  kristallitupa@gmail.com \nAnita Suvanto: Encaustic Art -mehiläisvahamaalausta voit kokeilla ilmaiseksi Hoitohuoneessa klo 19:00 alkaen. Saatat yllättyä siitä\, mitä ihmeitä hetki voi synnyttää.\n\nTilaisuudessa kahvi ja teetarjoilu\n\nLämpimästi ja sydämellisesti tervetuloa!\nSisäänpääsy alkaen klo 17:30\nHuom. Rajatiedon Yhteistyö ry:n rajatiedon kirjaston kaksoiskappaleita edullisesti myynnissä Taiteiden yön iltana
URL:https://www.rajatieto.fi/tapahtumat/taiteiden-yon-tapahtuma/
LOCATION:Avartuva ihmiskuva\, Uudenmaankatu 33\, Helsinki\, Uusimaa\, 00150\, Suomi
CATEGORIES:Kirjallisuus,Kirjallisuuspiiri
END:VEVENT
END:VCALENDAR